BEGIN:VCALENDAR
VERSION:2.0
PRODID:-//Squarespace Inc/Squarespace 6//v6//EN
BEGIN:VEVENT
UID:5b3b5a716d2a7342145a0af6@squarespace.com
DTSTAMP:20180805T083409Z
DTSTART:20180813T203000Z
DTEND:20180813T210000Z
SUMMARY:Day ticket registration open
GEO:40.720756;-74.000761
LOCATION:Ground Floor Foyer\, Michael Fowler Centre
END:VEVENT
END:VCALENDAR
