BEGIN:VCALENDAR
VERSION:2.0
PRODID:-//Squarespace Inc/Squarespace 6//v6//EN
BEGIN:VEVENT
UID:5b3b599c1ae6cf7a1e40b4e3@squarespace.com
DTSTAMP:20180805T083209Z
DTSTART:20180813T030000Z
DTEND:20180813T070000Z
SUMMARY:Registration open
GEO:40.720756;-74.000761
LOCATION:Ground Floor Foyer\, Michael Fowler Centre
END:VEVENT
END:VCALENDAR
