BEGIN:VCALENDAR
VERSION:2.0
PRODID:-//Squarespace Inc/Squarespace 6//v6//EN
BEGIN:VEVENT
UID:5b3c1429352f53933a543ba7@squarespace.com
DTSTAMP:20180811T005659Z
DTSTART:20180814T231500Z
DTEND:20180815T003000Z
SUMMARY:WORKSHOP - The Wounded Learner Research Project
GEO:-41.290358;174.777902
LOCATION:Praxis - Front Room\, Level 2 Anvil House 138-140 Wakefield Street
 \, Wellington\, 6011
END:VEVENT
END:VCALENDAR
