BEGIN:VCALENDAR
VERSION:2.0
PRODID:-//Squarespace Inc/Squarespace 6//v6//EN
BEGIN:VEVENT
UID:5b3c00ba03ce6479dfbdc007@squarespace.com
DTSTAMP:20180805T083833Z
DTSTART:20180814T223000Z
DTEND:20180814T230000Z
SUMMARY:Morning tea and networking in the Michael Fowler Centre foyer
GEO:45.458179;-73.47479
LOCATION:Foyer\, Michael Fowler Centre
END:VEVENT
END:VCALENDAR
