BEGIN:VCALENDAR
VERSION:2.0
PRODID:-//Squarespace Inc/Squarespace 6//v6//EN
BEGIN:VEVENT
UID:5b43313f758d46ed5f5169b7@squarespace.com
DTSTAMP:20180811T011624Z
DTSTART:20180815T021500Z
DTEND:20180815T033000Z
SUMMARY:SNAPSHOTS - Looking Back to Move Forward
GEO:-41.28958;174.777852
LOCATION:Wellington City Library Meeting Room\, 65 Victoria Street Wellingt
 on\, Wellington 6011
END:VEVENT
END:VCALENDAR
