BEGIN:VCALENDAR
VERSION:2.0
PRODID:-//Squarespace Inc/Squarespace 6//v6//EN
BEGIN:VEVENT
UID:5b432fb62b6a28b390d53cc6@squarespace.com
DTSTAMP:20180805T031429Z
DTSTART:20180814T231500Z
DTEND:20180815T003000Z
SUMMARY:SNAPSHOTS - Reflecting on Practice
GEO:-41.28958;174.777852
LOCATION:Lion Harbour 1\, Michael Fowler Centre
END:VEVENT
END:VCALENDAR
