BEGIN:VCALENDAR
VERSION:2.0
PRODID:-//Squarespace Inc/Squarespace 6//v6//EN
BEGIN:VEVENT
UID:5b4333208a922d4f1de01bb9@squarespace.com
DTSTAMP:20180805T033224Z
DTSTART:20180815T021500Z
DTEND:20180815T033000Z
SUMMARY:SNAPSHOTS - Leading Change
GEO:-41.28958;174.777852
LOCATION:Lion Harbour 1\, Michael Fowler Centre
END:VEVENT
END:VCALENDAR
