BEGIN:VCALENDAR
VERSION:2.0
PRODID:-//Squarespace Inc/Squarespace 6//v6//EN
BEGIN:VEVENT
UID:5b43307803ce641f98184b03@squarespace.com
DTSTAMP:20180805T031402Z
DTSTART:20180814T231500Z
DTEND:20180815T003000Z
SUMMARY:SNAPSHOTS - Creating Spaces
GEO:-41.28958;174.777852
LOCATION:Lion Harbour 2\, Michael Fowler Centre
END:VEVENT
END:VCALENDAR
