BEGIN:VCALENDAR
VERSION:2.0
PRODID:-//Squarespace Inc/Squarespace 6//v6//EN
BEGIN:VEVENT
UID:5b43324faa4a99250c2f6650@squarespace.com
DTSTAMP:20180810T051002Z
DTSTART:20180815T021500Z
DTEND:20180815T033000Z
SUMMARY:SNAPSHOTS - Wellbeing
GEO:28.076893;-82.766522
LOCATION:Lion Harbour 2\, Michael Fowler Centre
END:VEVENT
END:VCALENDAR
