BEGIN:VCALENDAR
VERSION:2.0
PRODID:-//Squarespace Inc/Squarespace 6//v6//EN
BEGIN:VEVENT
UID:5b3c23ae70a6ad4a1369f5d7@squarespace.com
DTSTAMP:20180805T083137Z
DTSTART:20180815T021500Z
DTEND:20180815T033000Z
SUMMARY:WORKSHOP - Rethinking our approach to drugs
GEO:-41.223959;174.884247
LOCATION:WR108 Room - Weltec School of Hospitality\, 49 Cuba Street\, Welli
 ngton\, Wellington\, 6011\, New Zealand
END:VEVENT
END:VCALENDAR
