BEGIN:VCALENDAR
VERSION:2.0
PRODID:-//Squarespace Inc/Squarespace 6//v6//EN
BEGIN:VEVENT
UID:5b3c15f62b6a2817333c886b@squarespace.com
DTSTAMP:20180811T010031Z
DTSTART:20180814T231500Z
DTEND:20180815T003000Z
SUMMARY:WORKSHOP - Reflections from young people about communication in you
 th justice settings
GEO:37.670817;-95.452477
LOCATION:Zeal\, Level 1 James Smith Building\, Corner of Cuba and Manners S
 treet\, Wellington 6011
END:VEVENT
END:VCALENDAR
