BEGIN:VCALENDAR
VERSION:2.0
PRODID:-//Squarespace Inc/Squarespace 6//v6//EN
BEGIN:VEVENT
UID:5b3c234e562fa782f9ca3aeb@squarespace.com
DTSTAMP:20180810T050339Z
DTSTART:20180815T021500Z
DTEND:20180815T033000Z
SUMMARY:WORKSHOP - Radical Shift: Valuing young people's expertise in youth 
 engagement
GEO:37.167565;-95.109964
LOCATION:Praxis - Front Room\, Level 2\, Anvil House\, 138-140 Wakefield St
 reet\, Wellington 6011
END:VEVENT
END:VCALENDAR
