BEGIN:VCALENDAR
VERSION:2.0
PRODID:-//Squarespace Inc/Squarespace 6//v6//EN
BEGIN:VEVENT
UID:5b3c146870a6ad4a1367da1c@squarespace.com
DTSTAMP:20180805T083021Z
DTSTART:20180814T231500Z
DTEND:20180815T003000Z
SUMMARY:WORKSHOP - HWC: A community model for change
GEO:-41.223959;174.884247
LOCATION:WR108 Room - Weltec School of Hospitality\, 49 Cuba Street\, Welli
 ngton\, Wellington\, 6011\, New Zealand
END:VEVENT
END:VCALENDAR
