BEGIN:VCALENDAR
VERSION:2.0
PRODID:-//Squarespace Inc/Squarespace 6//v6//EN
BEGIN:VEVENT
UID:5b3c22f7575d1fd7a45717c1@squarespace.com
DTSTAMP:20180811T010642Z
DTSTART:20180814T231500Z
DTEND:20180815T003000Z
SUMMARY:WORKSHOP - Planning for the next Youth2000 survey!
GEO:-41.291196;174.777118
LOCATION:Evolve Wellington Youth Service\, Level 2\, James Smith Building\, 
 Wellington\, Wellington\, 6011\, New Zealand
END:VEVENT
END:VCALENDAR
