BEGIN:VCALENDAR
VERSION:2.0
PRODID:-//Squarespace Inc/Squarespace 6//v6//EN
BEGIN:VEVENT
UID:5b3c12bb6d2a7346fab4436c@squarespace.com
DTSTAMP:20180805T030716Z
DTSTART:20180814T231500Z
DTEND:20180815T003000Z
SUMMARY:WORKSHOP - Navigating ethical maturity
GEO:-41.288146;174.776659
LOCATION:Wellington City Library Meeting Room\, 65 Victoria Street\, Wellin
 gton\, Wellington\, 6011\, New Zealand
END:VEVENT
END:VCALENDAR
