BEGIN:VCALENDAR
VERSION:2.0
PRODID:-//Squarespace Inc/Squarespace 6//v6//EN
BEGIN:VEVENT
UID:5b42d4aa70a6ad05d0838075@squarespace.com
DTSTAMP:20180810T050214Z
DTSTART:20180814T231500Z
DTEND:20180815T003000Z
SUMMARY:PANEL - Mentoring: Building quality relationships
GEO:42.728743;-84.476721
LOCATION:Auditorium\, Michael Fowler Centre
END:VEVENT
END:VCALENDAR
