BEGIN:VCALENDAR
VERSION:2.0
PRODID:-//Squarespace Inc/Squarespace 6//v6//EN
BEGIN:VEVENT
UID:5b3c22026d2a7346fab65e1b@squarespace.com
DTSTAMP:20180811T011249Z
DTSTART:20180815T021500Z
DTEND:20180815T033000Z
SUMMARY:WORKSHOP - What is the latest research on young people telling us?
GEO:-41.290788;174.777296
LOCATION:Zeal\, Level 1 James Smith Building\, Corner of Cuba and Manners S
 treet\, Wellington 6011
END:VEVENT
END:VCALENDAR
