BEGIN:VCALENDAR
VERSION:2.0
PRODID:-//Squarespace Inc/Squarespace 6//v6//EN
BEGIN:VEVENT
UID:5b42d568758d46ed5f48e40a@squarespace.com
DTSTAMP:20180811T011120Z
DTSTART:20180815T021500Z
DTEND:20180815T033000Z
SUMMARY:PANEL - Looking Forward
GEO:42.728743;-84.476721
LOCATION:Auditorium\, Michael Fowler Centre
END:VEVENT
END:VCALENDAR
