BEGIN:VCALENDAR
VERSION:2.0
PRODID:-//Squarespace Inc/Squarespace 6//v6//EN
BEGIN:VEVENT
UID:5b701d314fa51a50b7c7d91f@squarespace.com
DTSTAMP:20180812T115030Z
DTSTART:20180815T021500Z
DTEND:20180815T033000Z
SUMMARY:WORKSHOP - Learnings from across the Tasman: The NSW Youth Developm
 ent Framework
GEO:40.720756;-74.000761
LOCATION:Frank Taplin\, Michael Fowler Centre\, Wellington 6011
END:VEVENT
END:VCALENDAR
