BEGIN:VCALENDAR
VERSION:2.0
PRODID:-//Squarespace Inc/Squarespace 6//v6//EN
BEGIN:VEVENT
UID:5b3c0360562fa782f9c5bcbd@squarespace.com
DTSTAMP:20180805T090717Z
DTSTART:20180815T034500Z
DTEND:20180815T043000Z
SUMMARY:CLOSING ADDRESS - Dr Michelle Johansson
GEO:-41.28958;174.777852
LOCATION:Auditorium\, Michael Fowler Centre
END:VEVENT
END:VCALENDAR
