BEGIN:VCALENDAR
VERSION:2.0
PRODID:-//Squarespace Inc/Squarespace 6//v6//EN
BEGIN:VEVENT
UID:5b3c14fa6d2a7346fab49043@squarespace.com
DTSTAMP:20180806T104459Z
DTSTART:20180814T231500Z
DTEND:20180815T003000Z
SUMMARY:WORKSHOP - Innovative action based learning and developing youth le
 adership skills
GEO:-41.28958;174.777852
LOCATION:Praxis (back room)\, Level 2\, Anvil House\, 138-140 Wakefield Str
 eet\, Wellington 6011
END:VEVENT
END:VCALENDAR
