BEGIN:VCALENDAR
VERSION:2.0
PRODID:-//Squarespace Inc/Squarespace 6//v6//EN
BEGIN:VEVENT
UID:5b3c16b788251b563191dcfa@squarespace.com
DTSTAMP:20180805T031210Z
DTSTART:20180814T231500Z
DTEND:20180815T003000Z
SUMMARY:WORKSHOP - ICON: Our co-designed app for combatting online negativi
 ty
GEO:-41.28958;174.777852
LOCATION:The Community Meeting Room - Wellington City Council\, 101 Wakefie
 ld Street\, Wellington\, Wellington\, 6011\, New Zealand
END:VEVENT
END:VCALENDAR
