BEGIN:VCALENDAR
VERSION:2.0
PRODID:-//Squarespace Inc/Squarespace 6//v6//EN
BEGIN:VEVENT
UID:5b3c23b488251b563193a005@squarespace.com
DTSTAMP:20180810T050418Z
DTSTART:20180815T021500Z
DTEND:20180815T033000Z
SUMMARY:WORKSHOP - Two examples of how our ancestors could guide us today
GEO:-41.28958;174.777852
LOCATION:Praxis - Back Room\, Level 2\, Anvil House\, 138-140 Wakefield Str
 eet\, Wellington 6011
END:VEVENT
END:VCALENDAR
