BEGIN:VCALENDAR
VERSION:2.0
PRODID:-//Squarespace Inc/Squarespace 6//v6//EN
BEGIN:VEVENT
UID:5b3c154c352f53933a546533@squarespace.com
DTSTAMP:20180811T014741Z
DTSTART:20180815T021500Z
DTEND:20180815T033000Z
SUMMARY:WORKSHOP - HEeADSSS updated
GEO:-41.291196;174.777118
LOCATION:Evovle Wellington Youth Service\, Level 2\, James Smith Building C
 orner of Cuba and Manners Street\, Wellington 6011
END:VEVENT
END:VCALENDAR
