BEGIN:VCALENDAR
VERSION:2.0
PRODID:-//Squarespace Inc/Squarespace 6//v6//EN
BEGIN:VEVENT
UID:5b3c2279758d4643597aa1bd@squarespace.com
DTSTAMP:20180805T032530Z
DTSTART:20180815T021500Z
DTEND:20180815T033000Z
SUMMARY:WORKSHOP - Cultivating love\, kindness and empathy in schools and h
 omes
GEO:-41.28958;174.777852
LOCATION:The Community Meeting Room - Wellington City Council\, 101 Wakefie
 ld Street\, Wellington\, Wellington\, 6011\, New Zealand
END:VEVENT
END:VCALENDAR
