BEGIN:VCALENDAR
VERSION:2.0
PRODID:-//Squarespace Inc/Squarespace 6//v6//EN
BEGIN:VEVENT
UID:5b3c03f3352f53933a51e4d7@squarespace.com
DTSTAMP:20180703T232113Z
DTSTART:20180815T203000Z
DTEND:20180815T204500Z
SUMMARY:Karakia whakamutunga and closing
GEO:-41.28958;174.777852
LOCATION:Auditorium\, Michael Fowler Centre
END:VEVENT
END:VCALENDAR
