BEGIN:VCALENDAR
VERSION:2.0
PRODID:-//Squarespace Inc/Squarespace 6//v6//EN
BEGIN:VEVENT
UID:5b42c00d03ce641f980cf01a@squarespace.com
DTSTAMP:20180805T031935Z
DTSTART:20180815T021500Z
DTEND:20180815T033000Z
SUMMARY:BUS STOPS - Positive Youth Development Tools
GEO:-41.28958;174.777852
LOCATION:Renouf 2\, Michael Fowler Centre
END:VEVENT
END:VCALENDAR
