BEGIN:VCALENDAR
VERSION:2.0
PRODID:-//Squarespace Inc/Squarespace 6//v6//EN
BEGIN:VEVENT
UID:5b42bc0003ce641f980c56f5@squarespace.com
DTSTAMP:20180805T030342Z
DTSTART:20180814T231500Z
DTEND:20180815T003000Z
SUMMARY:BUS STOPS - Practical Tools
GEO:-41.28958;174.777852
LOCATION:Renouf 1\, Michael Fowler Centre
END:VEVENT
END:VCALENDAR
