BEGIN:VCALENDAR
VERSION:2.0
PRODID:-//Squarespace Inc/Squarespace 6//v6//EN
BEGIN:VEVENT
UID:5b3d80ba70a6ad4a139457e5@squarespace.com
DTSTAMP:20180810T050141Z
DTSTART:20180814T231500Z
DTEND:20180815T003000Z
SUMMARY:BUS STOPS - Local Government Champions
GEO:-41.28958;174.777852
LOCATION:Renouf 2\, Michael Fowler Centre
END:VEVENT
END:VCALENDAR
