BEGIN:VCALENDAR
VERSION:2.0
PRODID:-//Squarespace Inc/Squarespace 6//v6//EN
BEGIN:VEVENT
UID:5b42bed26d2a73e49d81e6d3@squarespace.com
DTSTAMP:20180810T050756Z
DTSTART:20180815T021500Z
DTEND:20180815T033000Z
SUMMARY:BUS STOPS - Collaboration
GEO:-41.28958;174.777852
LOCATION:Renouf 1\, Michael Fowler Centre
END:VEVENT
END:VCALENDAR
