BEGIN:VCALENDAR
VERSION:2.0
PRODID:-//Squarespace Inc/Squarespace 6//v6//EN
BEGIN:VEVENT
UID:5b3b346b0e2e724afe1fedb3@squarespace.com
DTSTAMP:20180810T042752Z
DTSTART:20180813T231500Z
DTEND:20180814T003000Z
SUMMARY:WORKSHOP - Youth workers' responsibilities in shifting the barriers 
 for rainbow rangatahi
GEO:-41.289444;174.776567
LOCATION:West Plaza\, 110 Wakefield Street\, Wellington\, Wellington\, 6011
 \, New Zealand
END:VEVENT
END:VCALENDAR
