BEGIN:VCALENDAR
VERSION:2.0
PRODID:-//Squarespace Inc/Squarespace 6//v6//EN
BEGIN:VEVENT
UID:5b3b4e32562fa77d9340f3b8@squarespace.com
DTSTAMP:20180810T013619Z
DTSTART:20180813T231500Z
DTEND:20180814T003000Z
SUMMARY:WORKSHOP - Youth Participation\, Power and Ethics
GEO:-41.290583;174.776977
LOCATION:WelTec - Room WR105\, Weltec School of Hospitality 49 Cuba Street\
 , Wellington 6011
END:VEVENT
END:VCALENDAR
