BEGIN:VCALENDAR
VERSION:2.0
PRODID:-//Squarespace Inc/Squarespace 6//v6//EN
BEGIN:VEVENT
UID:5b3b4f98aa4a9981e06218f2@squarespace.com
DTSTAMP:20180805T083911Z
DTSTART:20180815T003000Z
DTEND:20180815T020000Z
SUMMARY:Lunch and networking in the Michael Fowler Centre foyer
GEO:45.458179;-73.47479
LOCATION:Foyer\, Michael Fowler Centre
END:VEVENT
END:VCALENDAR
