BEGIN:VCALENDAR
VERSION:2.0
PRODID:-//Squarespace Inc/Squarespace 6//v6//EN
BEGIN:VEVENT
UID:5b3c10a1f950b77f516359de@squarespace.com
DTSTAMP:20180805T082929Z
DTSTART:20180814T021500Z
DTEND:20180814T033000Z
SUMMARY:WORKSHOP - Unaddressed causes of suicide
GEO:-41.223959;174.884247
LOCATION:WR105 Room - Weltec School of Hospitality\, 49 Cuba Street\, Welli
 ngton\, Wellington\, 6011\, New Zealand
END:VEVENT
END:VCALENDAR
