BEGIN:VCALENDAR
VERSION:2.0
PRODID:-//Squarespace Inc/Squarespace 6//v6//EN
BEGIN:VEVENT
UID:5b3b55776d2a73421459875f@squarespace.com
DTSTAMP:20180805T083548Z
DTSTART:20180813T223000Z
DTEND:20180813T230000Z
SUMMARY:Morning tea and networking in the Michael Fowler Centre foyer
GEO:45.458179;-73.47479
LOCATION:Foyer\, Michael Fowler Centre
END:VEVENT
END:VCALENDAR
