BEGIN:VCALENDAR
VERSION:2.0
PRODID:-//Squarespace Inc/Squarespace 6//v6//EN
BEGIN:VEVENT
UID:5b3c0053562fa782f9c535e0@squarespace.com
DTSTAMP:20180805T083935Z
DTSTART:20180814T003000Z
DTEND:20180814T020000Z
SUMMARY:Lunch and networking in the Michael Fowler Centre foyer
GEO:45.458179;-73.47479
LOCATION:Foyer\, Michael Fowler Centre
END:VEVENT
END:VCALENDAR
