BEGIN:VCALENDAR
VERSION:2.0
PRODID:-//Squarespace Inc/Squarespace 6//v6//EN
BEGIN:VEVENT
UID:5b3c0192f950b77f5161163b@squarespace.com
DTSTAMP:20180805T083658Z
DTSTART:20180814T033000Z
DTEND:20180814T040000Z
SUMMARY:Afternoon tea and networking in the Michael Fowler Centre foyer
GEO:45.458179;-73.47479
LOCATION:Foyer\, Michael Fowler Centre
END:VEVENT
END:VCALENDAR
