BEGIN:VCALENDAR
VERSION:2.0
PRODID:-//Squarespace Inc/Squarespace 6//v6//EN
BEGIN:VEVENT
UID:5b3b4c02562fa77d9340c025@squarespace.com
DTSTAMP:20180811T012157Z
DTSTART:20180814T021500Z
DTEND:20180814T033000Z
SUMMARY:WORKSHOP - Truths from the Salvation Army
GEO:-41.289118;174.776666
LOCATION:Community Meeting Room - Wellington City Council\, 101 Wakefield S
 treet\, Wellington\, Wellington\, 6011\, New Zealand
END:VEVENT
END:VCALENDAR
