BEGIN:VCALENDAR
VERSION:2.0
PRODID:-//Squarespace Inc/Squarespace 6//v6//EN
BEGIN:VEVENT
UID:5b3b474703ce646a88bdf7b2@squarespace.com
DTSTAMP:20180810T044047Z
DTSTART:20180813T231500Z
DTEND:20180814T003000Z
SUMMARY:WORKSHOP - Navigating the cultural adaptation of a youth mentoring 
 programme
GEO:-41.289118;174.776666
LOCATION:WCC Committee Room\, 101 Wakefield Street\, Wellington\, Wellingto
 n\, 6011\, New Zealand
END:VEVENT
END:VCALENDAR
