BEGIN:VCALENDAR
VERSION:2.0
PRODID:-//Squarespace Inc/Squarespace 6//v6//EN
BEGIN:VEVENT
UID:5b3b43e3575d1fc8d2f9f9c1@squarespace.com
DTSTAMP:20180810T044634Z
DTSTART:20180814T021500Z
DTEND:20180814T033000Z
SUMMARY:WORKSHOP - Supporting youth mental health and wellbeing using onlin
 e approaches
GEO:-41.28958;174.777852
LOCATION:Praxis - Back Room\, Level 2\, Anvil House\, 138-140 Wakefield Str
 eet\, Wellington 6011
END:VEVENT
END:VCALENDAR
