BEGIN:VCALENDAR
VERSION:2.0
PRODID:-//Squarespace Inc/Squarespace 6//v6//EN
BEGIN:VEVENT
UID:5b3c10540e2e7230779ef157@squarespace.com
DTSTAMP:20180805T034014Z
DTSTART:20180814T021500Z
DTEND:20180814T033000Z
SUMMARY:WORKSHOP - Supporting rainbow young people
GEO:-41.291252;174.777161
LOCATION:Evolve\, James Smith Building\, Corner Cuba & Manners Streets\, 60
 11\, New Zealand
END:VEVENT
END:VCALENDAR
