BEGIN:VCALENDAR
VERSION:2.0
PRODID:-//Squarespace Inc/Squarespace 6//v6//EN
BEGIN:VEVENT
UID:5b3b42220e2e724afe212a7b@squarespace.com
DTSTAMP:20180811T004729Z
DTSTART:20180814T021500Z
DTEND:20180814T033000Z
SUMMARY:WORKSHOP - Spoken Worlds: Spoken word poetry as a tool for youth de
 velopment
GEO:-41.28958;174.777852
LOCATION:Zeal\, Level 1 James Smith Building\, Corner of Cuba and Manners S
 treet\, Wellington 6011
END:VEVENT
END:VCALENDAR
