BEGIN:VCALENDAR
VERSION:2.0
PRODID:-//Squarespace Inc/Squarespace 6//v6//EN
BEGIN:VEVENT
UID:5b3b4c7c562fa77d9340cbf9@squarespace.com
DTSTAMP:20180810T043937Z
DTSTART:20180813T231500Z
DTEND:20180814T003000Z
SUMMARY:WORKSHOP - Southseas MYSTORY: Personal storytelling workshop
GEO:-41.28958;174.777852
LOCATION:Frank Taplin\, Michael Fowler Centre
END:VEVENT
END:VCALENDAR
