BEGIN:VCALENDAR
VERSION:2.0
PRODID:-//Squarespace Inc/Squarespace 6//v6//EN
BEGIN:VEVENT
UID:5b42c15af950b7059fa8f43c@squarespace.com
DTSTAMP:20180805T003521Z
DTSTART:20180813T231500Z
DTEND:20180814T003000Z
SUMMARY:SNAPSHOTS - Reducing Harm
GEO:-41.28958;174.777852
LOCATION:Lion Harbour 2\, Michael Fowler Centre
END:VEVENT
END:VCALENDAR
