BEGIN:VCALENDAR
VERSION:2.0
PRODID:-//Squarespace Inc/Squarespace 6//v6//EN
BEGIN:VEVENT
UID:5b42d91403ce641f98105176@squarespace.com
DTSTAMP:20180810T044935Z
DTSTART:20180814T021500Z
DTEND:20180814T033000Z
SUMMARY:SNAPSHOTS - Youth Led Change
GEO:-41.28958;174.777852
LOCATION:Frank Taplin\, Michael Fowler Centre
END:VEVENT
END:VCALENDAR
