BEGIN:VCALENDAR
VERSION:2.0
PRODID:-//Squarespace Inc/Squarespace 6//v6//EN
BEGIN:VEVENT
UID:5b42caba03ce641f980e6e8d@squarespace.com
DTSTAMP:20180810T043832Z
DTSTART:20180813T231500Z
DTEND:20180814T003000Z
SUMMARY:SNAPSHOTS - Transformations
GEO:-41.290459;174.77787
LOCATION:Praxis - Front Room\, Level 2\, Anvil House\, 138-140 Wakefield St
 reet\, Wellington 6011
END:VEVENT
END:VCALENDAR
