BEGIN:VCALENDAR
VERSION:2.0
PRODID:-//Squarespace Inc/Squarespace 6//v6//EN
BEGIN:VEVENT
UID:5b42d86588251beed8c1b6fc@squarespace.com
DTSTAMP:20180806T103937Z
DTSTART:20180814T021500Z
DTEND:20180814T033000Z
SUMMARY:SNAPSHOTS - Positive Youth Development Models
GEO:-41.28958;174.777852
LOCATION:Lion Harbour 2\, Michael Fowler Centre
END:VEVENT
END:VCALENDAR
