BEGIN:VCALENDAR
VERSION:2.0
PRODID:-//Squarespace Inc/Squarespace 6//v6//EN
BEGIN:VEVENT
UID:5b3c08472b6a2817333a9dfe@squarespace.com
DTSTAMP:20180810T042409Z
DTSTART:20180813T231500Z
DTEND:20180814T003000Z
SUMMARY:WORKSHOP - PARTH: Practice that makes a difference for young people
GEO:-41.290335;174.777889
LOCATION:Praxis - Back Room\, Level 2\, Anvil House\, 138-140 Wakefield Str
 eet\, Wellington\, Wellington\, 6011\, New Zealand
END:VEVENT
END:VCALENDAR
