BEGIN:VCALENDAR
VERSION:2.0
PRODID:-//Squarespace Inc/Squarespace 6//v6//EN
BEGIN:VEVENT
UID:5b3af09d0e2e724afe195bff@squarespace.com
DTSTAMP:20180810T044129Z
DTSTART:20180813T231500Z
DTEND:20180814T003000Z
SUMMARY:WORKSHOP - New approaches and cool tools to engage with young peopl
 e
GEO:-41.288146;174.776659
LOCATION:WCC Library Meeting Room\, 65 Victoria Street\, Wellington\, Welli
 ngton\, 6011\, New Zealand
END:VEVENT
END:VCALENDAR
