BEGIN:VCALENDAR
VERSION:2.0
PRODID:-//Squarespace Inc/Squarespace 6//v6//EN
BEGIN:VEVENT
UID:5b3b498288251b554c543406@squarespace.com
DTSTAMP:20180810T042502Z
DTSTART:20180813T231500Z
DTEND:20180814T003000Z
SUMMARY:WORKSHOP - Mentoring and Attunement
GEO:-41.28958;174.777852
LOCATION:Lion Harbour 1\, Michael Fowler Centre
END:VEVENT
END:VCALENDAR
